BEGIN:VCALENDAR
VERSION:2.0
PRODID:-//wp-events-plugin.com//7.2.3.1//EN
TZID:Europe/Berlin
X-WR-TIMEZONE:Europe/Berlin
BEGIN:VEVENT
UID:27@deroffenerotekreis.de
DTSTART;TZID=Europe/Berlin;VALUE=DATE:20300101
DTEND;TZID=Europe/Berlin;VALUE=DATE:20300102
DTSTAMP:20240401T192125Z
URL:https://deroffenerotekreis.de/veranstaltungen/3885/
SUMMARY:Wandern im Sauerland / Rothaargebirge ( Termine auf der verlinkten 
 Seite:  http://www.chemindecompostelle.de )
DESCRIPTION:Hier der Link zu den Terminen und weiteren Infos:\n\nhttp://www
 .chemindecompostelle.de\n\nDie Wanderungen sind Veranstaltungen des SGV Ab
 teilung Girkhausen.\nAnmeldung ist nicht notwendig\, weitere Infos unter 0
 160 903 48 064\n(Markus Meyer und Kirsten Henken: in der Woche nach 17:00 
 Uhr - oder\nam Wochenende)
END:VEVENT
BEGIN:VTIMEZONE
TZID:Europe/Berlin
X-LIC-LOCATION:Europe/Berlin
BEGIN:STANDARD
DTSTART:20291028T020000
TZOFFSETFROM:+0200
TZOFFSETTO:+0100
TZNAME:CET
END:STANDARD
END:VTIMEZONE
END:VCALENDAR