BEGIN:VCALENDAR
VERSION:2.0
PRODID:-//wp-events-plugin.com//7.2.3.1//EN
TZID:Europe/Berlin
X-WR-TIMEZONE:Europe/Berlin
BEGIN:VEVENT
UID:26@deroffenerotekreis.de
DTSTART;TZID=Europe/Berlin:20240317T130000
DTEND;TZID=Europe/Berlin:20240317T190000
DTSTAMP:20240212T191247Z
URL:https://deroffenerotekreis.de/veranstaltungen/monatstreffen-ork-2/
SUMMARY:Monatstreffen ORK
DESCRIPTION:Unser nächstes Monatstreffen des ORK findet am 17. März 2024 
 statt.
END:VEVENT
BEGIN:VTIMEZONE
TZID:Europe/Berlin
X-LIC-LOCATION:Europe/Berlin
BEGIN:STANDARD
DTSTART:20231029T020000
TZOFFSETFROM:+0200
TZOFFSETTO:+0100
TZNAME:CET
END:STANDARD
END:VTIMEZONE
END:VCALENDAR